BEGIN:VCALENDAR
VERSION:2.0
PRODID:-//Familienzentrum Dettingen unter Teck - ECPv6.15.20//NONSGML v1.0//EN
CALSCALE:GREGORIAN
METHOD:PUBLISH
X-ORIGINAL-URL:https://dominik.craftskills.de
X-WR-CALDESC:Veranstaltungen für Familienzentrum Dettingen unter Teck
REFRESH-INTERVAL;VALUE=DURATION:PT1H
X-Robots-Tag:noindex
X-PUBLISHED-TTL:PT1H
BEGIN:VTIMEZONE
TZID:UTC
BEGIN:STANDARD
TZOFFSETFROM:+0000
TZOFFSETTO:+0000
TZNAME:UTC
DTSTART:20250101T000000
END:STANDARD
END:VTIMEZONE
BEGIN:VEVENT
DTSTART;TZID=UTC:20260420T153000
DTEND;TZID=UTC:20260420T163000
DTSTAMP:20260420T103947
CREATED:20260410T072827Z
LAST-MODIFIED:20260410T072827Z
UID:2231-1776699000-1776702600@dominik.craftskills.de
SUMMARY:Mutmurmeln
DESCRIPTION:
URL:https://dominik.craftskills.de/event/mutmurmeln/
END:VEVENT
BEGIN:VEVENT
DTSTART;TZID=UTC:20260423T000000
DTEND;TZID=UTC:20260423T235959
DTSTAMP:20260420T103948
CREATED:20260331T131653Z
LAST-MODIFIED:20260410T071713Z
UID:2198-1776902400-1776988799@dominik.craftskills.de
SUMMARY:Ein Haus - Ganz viel los
DESCRIPTION:Vorlesen\, Basteln\, Spielen\, Gespräche
URL:https://dominik.craftskills.de/event/test2/
LOCATION:Familienzentrum\, Schulstraße 5\, Dettingen unter Teck\, 73265
END:VEVENT
BEGIN:VEVENT
DTSTART;TZID=UTC:20260424T093000
DTEND;TZID=UTC:20260424T233000
DTSTAMP:20260420T103948
CREATED:20260410T072356Z
LAST-MODIFIED:20260410T072356Z
UID:2225-1777023000-1777073400@dominik.craftskills.de
SUMMARY:Cafe Latte mit Hebamme Melanie Schmid
DESCRIPTION:
URL:https://dominik.craftskills.de/event/cafe-latte-mit-hebamme-melanie-schmid-2/
END:VEVENT
BEGIN:VEVENT
DTSTART;TZID=UTC:20260506T000000
DTEND;TZID=UTC:20260506T235959
DTSTAMP:20260420T103948
CREATED:20260410T072640Z
LAST-MODIFIED:20260410T072640Z
UID:2227-1778025600-1778111999@dominik.craftskills.de
SUMMARY:Lichtzeit
DESCRIPTION:
URL:https://dominik.craftskills.de/event/lichtzeit/
END:VEVENT
BEGIN:VEVENT
DTSTART;TZID=UTC:20260508T093000
DTEND;TZID=UTC:20260508T233000
DTSTAMP:20260420T103948
CREATED:20260410T072337Z
LAST-MODIFIED:20260410T072424Z
UID:2223-1778232600-1778283000@dominik.craftskills.de
SUMMARY:Cafe Latte mit Hebamme Melanie Schmid
DESCRIPTION:
URL:https://dominik.craftskills.de/event/cafe-latte-mit-hebamme-melanie-schmid/
END:VEVENT
END:VCALENDAR