BEGIN:VCALENDAR
VERSION:2.0
PRODID:-//Familienzentrum Dettingen unter Teck - ECPv6.15.20//NONSGML v1.0//EN
CALSCALE:GREGORIAN
METHOD:PUBLISH
X-ORIGINAL-URL:https://dominik.craftskills.de
X-WR-CALDESC:Veranstaltungen für Familienzentrum Dettingen unter Teck
REFRESH-INTERVAL;VALUE=DURATION:PT1H
X-Robots-Tag:noindex
X-PUBLISHED-TTL:PT1H
BEGIN:VTIMEZONE
TZID:UTC
BEGIN:STANDARD
TZOFFSETFROM:+0000
TZOFFSETTO:+0000
TZNAME:UTC
DTSTART:20250101T000000
END:STANDARD
END:VTIMEZONE
BEGIN:VEVENT
DTSTART;TZID=UTC:20260417T093000
DTEND;TZID=UTC:20260417T233000
DTSTAMP:20260420T122010
CREATED:20260331T131634Z
LAST-MODIFIED:20260410T073605Z
UID:2196-1776418200-1776468600@dominik.craftskills.de
SUMMARY:Offener Frühstückstreff
DESCRIPTION:
URL:https://dominik.craftskills.de/event/test/
LOCATION:Familienzentrum\, Schulstraße 5\, Dettingen unter Teck\, 73265
ATTACH;FMTTYPE=image/png:https://dominik.craftskills.de/wp-content/uploads/2026/03/Screenshot-2026-04-10-at-09-35-29-Offener-Treff-–-Familienzentrum-Dettingen-unter-Teck-e1775806560429.png
END:VEVENT
BEGIN:VEVENT
DTSTART;TZID=UTC:20260416T193000
DTEND;TZID=UTC:20260416T213000
DTSTAMP:20260420T122010
CREATED:20260410T072744Z
LAST-MODIFIED:20260410T073447Z
UID:2229-1776367800-1776375000@dominik.craftskills.de
SUMMARY:Liebe\, Wut & Geschwisterstreit
DESCRIPTION:
URL:https://dominik.craftskills.de/event/liebe-wut-geschwisterzeit/
ATTACH;FMTTYPE=image/png:https://dominik.craftskills.de/wp-content/uploads/2026/04/Screenshot-2026-04-10-at-09-31-33-Liebe-Wut-und-Geschwisterstreit-–-Familienzentrum-Dettingen-unter-Teck-e1775806479470.png
END:VEVENT
END:VCALENDAR